BEGIN:VCALENDAR
VERSION:2.0
PRODID:-//hacksw/handcal//NONSGML v1.0//EN
BEGIN:VEVENT
UID:c73699df512eed9ed8a07f773842bf0c@thesheid.com
DTSTAMP:20260423T180254Z
DTSTART:20241103T000000Z
DTEND:20241103T000000Z
SUMMARY:Arrival from Sweden - The Music of ABBA
END:VEVENT
END:VCALENDAR