BEGIN:VCALENDAR
VERSION:2.0
PRODID:-//hacksw/handcal//NONSGML v1.0//EN
BEGIN:VEVENT
UID:d714d85fb65c64c5d24e74401b9342fb@thesheid.com
DTSTAMP:20260425T000015Z
DTSTART:20260408T000000Z
DTEND:20260408T000000Z
SUMMARY:Voctave
END:VEVENT
END:VCALENDAR