BEGIN:VCALENDAR
VERSION:2.0
PRODID:-//hacksw/handcal//NONSGML v1.0//EN
BEGIN:VEVENT
UID:0d6742f0b9b37b406bd243915d17f3ef@thesheid.com
DTSTAMP:20260424T235848Z
DTSTART:20260416T000000Z
DTEND:20260416T000000Z
SUMMARY:Wilson Fairchild with Band
END:VEVENT
END:VCALENDAR