BEGIN:VCALENDAR
VERSION:2.0
PRODID:-//hacksw/handcal//NONSGML v1.0//EN
BEGIN:VEVENT
UID:cb4533cfc8b71fcb11186b4b0c082173@thesheid.com
DTSTAMP:20260424T145902Z
DTSTART:20260429T000000Z
DTEND:20260429T000000Z
SUMMARY:Todd Oliver & Irving the Talking Dog 
END:VEVENT
END:VCALENDAR