BEGIN:VCALENDAR
VERSION:2.0
PRODID:-//hacksw/handcal//NONSGML v1.0//EN
BEGIN:VEVENT
UID:d2e45ded6a2e84228a1a19926f58719f@thesheid.com
DTSTAMP:20260421T170134Z
DTSTART:20171130T000000Z
DTEND:20171130T000000Z
SUMMARY:Arkansas Symphony Orchestra
END:VEVENT
END:VCALENDAR